BEGIN:VCALENDAR
VERSION:2.0
PRODID:-//Catholic Conscience † - ECPv6.15.16//NONSGML v1.0//EN
CALSCALE:GREGORIAN
METHOD:PUBLISH
X-WR-CALNAME:Catholic Conscience †
X-ORIGINAL-URL:https://catholicconscience.org
X-WR-CALDESC:Events for Catholic Conscience †
REFRESH-INTERVAL;VALUE=DURATION:PT1H
X-Robots-Tag:noindex
X-PUBLISHED-TTL:PT1H
BEGIN:VTIMEZONE
TZID:America/Toronto
BEGIN:DAYLIGHT
TZOFFSETFROM:-0500
TZOFFSETTO:-0400
TZNAME:EDT
DTSTART:20220313T070000
END:DAYLIGHT
BEGIN:STANDARD
TZOFFSETFROM:-0400
TZOFFSETTO:-0500
TZNAME:EST
DTSTART:20221106T060000
END:STANDARD
BEGIN:DAYLIGHT
TZOFFSETFROM:-0500
TZOFFSETTO:-0400
TZNAME:EDT
DTSTART:20230312T070000
END:DAYLIGHT
BEGIN:STANDARD
TZOFFSETFROM:-0400
TZOFFSETTO:-0500
TZNAME:EST
DTSTART:20231105T060000
END:STANDARD
BEGIN:DAYLIGHT
TZOFFSETFROM:-0500
TZOFFSETTO:-0400
TZNAME:EDT
DTSTART:20240310T070000
END:DAYLIGHT
BEGIN:STANDARD
TZOFFSETFROM:-0400
TZOFFSETTO:-0500
TZNAME:EST
DTSTART:20241103T060000
END:STANDARD
END:VTIMEZONE
BEGIN:VEVENT
DTSTART;VALUE=DATE:20230529
DTEND;VALUE=DATE:20230531
DTSTAMP:20260422T181006
CREATED:20230223T231904Z
LAST-MODIFIED:20230305T194347Z
UID:10000053-1685325600-1685411999@catholicconscience.org
SUMMARY:Alberta Election
DESCRIPTION:Alberta’s 31st general election will take place May 29\, 2023.  The election will offer voters an opportunity to ensure that the province is governed by practical and efficient leaders who bear the good of all in mind – including the unborn\, the elderly\, the young\, families\, and those who are too often forgotten by society – as well as workers\, farmers\, business owners\, and all future generations.  This is an important opportunity for Catholics.  We are called to participate\, in accordance with the full measure of talents entrusted to us by God.  \nAn explanation of our duty\, and the ways in which we can exercise it\, is provided in our election resource page.  This page will guide you toward resources and starting points to assist you in these efforts\, whether you are Catholic or simply a good person interested in a better world.
URL:https://catholicconscience.org/upcoming/alberta-election/
LOCATION:Ontario
CATEGORIES:Canada,Provincial Elections
ATTACH;FMTTYPE=image/jpeg:https://catholicconscience.org/wp-content/uploads/flags/vote/Vote-Flag-Alberta.jpg
END:VEVENT
END:VCALENDAR