BEGIN:VCALENDAR
VERSION:2.0
PRODID:-//Catholic Conscience † - ECPv6.15.16//NONSGML v1.0//EN
CALSCALE:GREGORIAN
METHOD:PUBLISH
X-WR-CALNAME:Catholic Conscience †
X-ORIGINAL-URL:https://catholicconscience.org
X-WR-CALDESC:Events for Catholic Conscience †
REFRESH-INTERVAL;VALUE=DURATION:PT1H
X-Robots-Tag:noindex
X-PUBLISHED-TTL:PT1H
BEGIN:VTIMEZONE
TZID:America/Toronto
BEGIN:DAYLIGHT
TZOFFSETFROM:-0500
TZOFFSETTO:-0400
TZNAME:EDT
DTSTART:20220313T070000
END:DAYLIGHT
BEGIN:STANDARD
TZOFFSETFROM:-0400
TZOFFSETTO:-0500
TZNAME:EST
DTSTART:20221106T060000
END:STANDARD
BEGIN:DAYLIGHT
TZOFFSETFROM:-0500
TZOFFSETTO:-0400
TZNAME:EDT
DTSTART:20230312T070000
END:DAYLIGHT
BEGIN:STANDARD
TZOFFSETFROM:-0400
TZOFFSETTO:-0500
TZNAME:EST
DTSTART:20231105T060000
END:STANDARD
BEGIN:DAYLIGHT
TZOFFSETFROM:-0500
TZOFFSETTO:-0400
TZNAME:EDT
DTSTART:20240310T070000
END:DAYLIGHT
BEGIN:STANDARD
TZOFFSETFROM:-0400
TZOFFSETTO:-0500
TZNAME:EST
DTSTART:20241103T060000
END:STANDARD
END:VTIMEZONE
BEGIN:VEVENT
DTSTART;TZID=America/Toronto:20230126T190000
DTEND;TZID=America/Toronto:20230126T210000
DTSTAMP:20260422T222446
CREATED:20221220T152100Z
LAST-MODIFIED:20221220T152100Z
UID:10000026-1674759600-1674766800@catholicconscience.org
SUMMARY:Faith & Reason Lecture Series: Faith\, Reason & Beauty
DESCRIPTION:In this lecture\, Professor Randy Boyagoda (English Department) argues that the great interest\, in recent years\, in horror movies is indicative of a suppressed but enduring desire for faith and beauty. Situating his discussion in the context of the Catholic intellectual tradition\, Professor Boyagoda makes a case for how to best to cultivate an openness to the transcendent in mundane times.
URL:https://catholicconscience.org/upcoming/faith-reason-lecture-series-faith-reason-beauty/
LOCATION:Newman Centre Catholic Mission\, 89 St George Street\, Toronto\, Ontario\, M5S 2E8\, Canada
CATEGORIES:Faith & Reason Lecture Series
ATTACH;FMTTYPE=image/jpeg:https://catholicconscience.org/wp-content/uploads/2022/12/FR-Jan2023.jpg
END:VEVENT
END:VCALENDAR