BEGIN:VCALENDAR
VERSION:2.0
PRODID:-//Catholic Conscience † - ECPv6.15.16//NONSGML v1.0//EN
CALSCALE:GREGORIAN
METHOD:PUBLISH
X-WR-CALNAME:Catholic Conscience †
X-ORIGINAL-URL:https://catholicconscience.org
X-WR-CALDESC:Events for Catholic Conscience †
REFRESH-INTERVAL;VALUE=DURATION:PT1H
X-Robots-Tag:noindex
X-PUBLISHED-TTL:PT1H
BEGIN:VTIMEZONE
TZID:America/Toronto
BEGIN:DAYLIGHT
TZOFFSETFROM:-0500
TZOFFSETTO:-0400
TZNAME:EDT
DTSTART:20200308T070000
END:DAYLIGHT
BEGIN:STANDARD
TZOFFSETFROM:-0400
TZOFFSETTO:-0500
TZNAME:EST
DTSTART:20201101T060000
END:STANDARD
BEGIN:DAYLIGHT
TZOFFSETFROM:-0500
TZOFFSETTO:-0400
TZNAME:EDT
DTSTART:20210314T070000
END:DAYLIGHT
BEGIN:STANDARD
TZOFFSETFROM:-0400
TZOFFSETTO:-0500
TZNAME:EST
DTSTART:20211107T060000
END:STANDARD
BEGIN:DAYLIGHT
TZOFFSETFROM:-0500
TZOFFSETTO:-0400
TZNAME:EDT
DTSTART:20220313T070000
END:DAYLIGHT
BEGIN:STANDARD
TZOFFSETFROM:-0400
TZOFFSETTO:-0500
TZNAME:EST
DTSTART:20221106T060000
END:STANDARD
END:VTIMEZONE
BEGIN:VEVENT
DTSTART;TZID=America/Toronto:20210421T193000
DTEND;TZID=America/Toronto:20210421T203000
DTSTAMP:20260425T112142
CREATED:20210329T171701Z
LAST-MODIFIED:20210405T223818Z
UID:10000044-1619033400-1619037000@catholicconscience.org
SUMMARY:Resisting Throwaway Culture
DESCRIPTION:A conversation about how Catholics can transcend the left-right political divide and build a political culture of encounter and hospitality \nOurs is a “throwaway culture”\, in the words of Pope Francis—one in which the vulnerable are too-often discarded like trash. It doesn’t have to be this way. In his book Resisting Throwaway Culture\, Fordham University professor Charles Camosy calls us to transcend the left-right political divide in favour of a Catholic culture of hospitality and encounter where “no one is useless\, no one is expendable… [and includes] those on the peripheries of life.” Join us for a free webinar with Professor Camosy about how a Consistent Life Ethic can unite us and build this political culture\, one rooted in love and human dignity.
URL:https://catholicconscience.org/upcoming/resisting-throwaway-culture/
LOCATION:Ontario
CATEGORIES:Catholic Conscience Events
ATTACH;FMTTYPE=image/jpeg:https://catholicconscience.org/wp-content/uploads/2021/03/Throwaway-Culture-Camosy-crop.jpg
END:VEVENT
END:VCALENDAR