BEGIN:VCALENDAR
VERSION:2.0
PRODID:-//Catholic Conscience † - ECPv6.15.16//NONSGML v1.0//EN
CALSCALE:GREGORIAN
METHOD:PUBLISH
X-ORIGINAL-URL:https://catholicconscience.org
X-WR-CALDESC:Events for Catholic Conscience †
REFRESH-INTERVAL;VALUE=DURATION:PT1H
X-Robots-Tag:noindex
X-PUBLISHED-TTL:PT1H
BEGIN:VTIMEZONE
TZID:America/Toronto
BEGIN:DAYLIGHT
TZOFFSETFROM:-0500
TZOFFSETTO:-0400
TZNAME:EDT
DTSTART:20190310T070000
END:DAYLIGHT
BEGIN:STANDARD
TZOFFSETFROM:-0400
TZOFFSETTO:-0500
TZNAME:EST
DTSTART:20191103T060000
END:STANDARD
BEGIN:DAYLIGHT
TZOFFSETFROM:-0500
TZOFFSETTO:-0400
TZNAME:EDT
DTSTART:20200308T070000
END:DAYLIGHT
BEGIN:STANDARD
TZOFFSETFROM:-0400
TZOFFSETTO:-0500
TZNAME:EST
DTSTART:20201101T060000
END:STANDARD
BEGIN:DAYLIGHT
TZOFFSETFROM:-0500
TZOFFSETTO:-0400
TZNAME:EDT
DTSTART:20210314T070000
END:DAYLIGHT
BEGIN:STANDARD
TZOFFSETFROM:-0400
TZOFFSETTO:-0500
TZNAME:EST
DTSTART:20211107T060000
END:STANDARD
END:VTIMEZONE
BEGIN:VEVENT
DTSTART;TZID=America/Toronto:20200212T190000
DTEND;TZID=America/Toronto:20200212T203000
DTSTAMP:20260424T233833
CREATED:20200207T150021Z
LAST-MODIFIED:20200207T150021Z
UID:10000048-1581534000-1581539400@catholicconscience.org
SUMMARY:FORMATION FOR CATHOLIC ACTION
DESCRIPTION:Join us on February 12 at St Peter’s Church in downtown Toronto for an introduction to the social justice teachings of the Church\, lead by Catholic Conscience’s Matt Marquardt. This event will be the lead-off in a four-part series hosted by St Peter’s\, leading to formation with an emphasis on care for the poor and lonely among us.
URL:https://catholicconscience.org/upcoming/formation-for-catholic-action/
LOCATION:St Peter’s Church\, 830 Bathurst Street\, Toronto\, Ontario\, M5R 3G1\, Canada
GEO:43.6658781;-79.4117066
X-APPLE-STRUCTURED-LOCATION;VALUE=URI;X-ADDRESS=St Peter’s Church 830 Bathurst Street Toronto Ontario M5R 3G1 Canada;X-APPLE-RADIUS=500;X-TITLE=830 Bathurst Street:geo:-79.4117066,43.6658781
END:VEVENT
END:VCALENDAR