BEGIN:VCALENDAR
VERSION:2.0
PRODID:-//Catholic Conscience † - ECPv6.15.16//NONSGML v1.0//EN
CALSCALE:GREGORIAN
METHOD:PUBLISH
X-ORIGINAL-URL:https://catholicconscience.org
X-WR-CALDESC:Events for Catholic Conscience †
REFRESH-INTERVAL;VALUE=DURATION:PT1H
X-Robots-Tag:noindex
X-PUBLISHED-TTL:PT1H
BEGIN:VTIMEZONE
TZID:America/Toronto
BEGIN:DAYLIGHT
TZOFFSETFROM:-0500
TZOFFSETTO:-0400
TZNAME:EDT
DTSTART:20170312T070000
END:DAYLIGHT
BEGIN:STANDARD
TZOFFSETFROM:-0400
TZOFFSETTO:-0500
TZNAME:EST
DTSTART:20171105T060000
END:STANDARD
BEGIN:DAYLIGHT
TZOFFSETFROM:-0500
TZOFFSETTO:-0400
TZNAME:EDT
DTSTART:20180311T070000
END:DAYLIGHT
BEGIN:STANDARD
TZOFFSETFROM:-0400
TZOFFSETTO:-0500
TZNAME:EST
DTSTART:20181104T060000
END:STANDARD
BEGIN:DAYLIGHT
TZOFFSETFROM:-0500
TZOFFSETTO:-0400
TZNAME:EDT
DTSTART:20190310T070000
END:DAYLIGHT
BEGIN:STANDARD
TZOFFSETFROM:-0400
TZOFFSETTO:-0500
TZNAME:EST
DTSTART:20191103T060000
END:STANDARD
END:VTIMEZONE
BEGIN:VEVENT
DTSTART;VALUE=DATE:20180701
DTEND;VALUE=DATE:20180702
DTSTAMP:20260426T002948
CREATED:20170805T193454Z
LAST-MODIFIED:20170805T193454Z
UID:10000021-1530403200-1530489599@catholicconscience.org
SUMMARY:Mexico - Federal Elections
DESCRIPTION:General elections are scheduled to be held in Mexico on 1 July 2018. Voters will elect a new president to serve a six-year term\, 500 members of the Chamber of Deputies and 128 members of the Senate. The members of the legislature elected on this date will be the first allowed to run for re-election in subsequent elections. \nIncumbent President Enrique Peña Nieto is not eligible for a second term according to the Mexican Constitution. \n\nThe President is elected by plurality in a single round of voting. \nThe 500 members of the Chamber of Deputies are elected by two methods; 300 are elected in single-member constituencies by first-past-the-post voting\, with the remaining 200 elected in a single nationwide constituency by proportional representation\, with seats allocated using the simple quotient and largest remainder method. No party is allowed to hold more than 300 seats. \nThe 128 members of the Senate are also elected by two methods\, with 96 elected in 32 three-seat constituencies based on the states and 32 elected in a single nationwide constituency by proportional representation. In the three-seat constituencies two seats are allocated to the party receiving the highest number of votes and one seat to the party receiving the second-highest number of votes.
URL:https://catholicconscience.org/upcoming/mexico-federal-elections/
LOCATION:Ontario
END:VEVENT
END:VCALENDAR