BEGIN:VCALENDAR
VERSION:2.0
PRODID:-//Catholic Conscience † - ECPv6.15.16//NONSGML v1.0//EN
CALSCALE:GREGORIAN
METHOD:PUBLISH
X-WR-CALNAME:Catholic Conscience †
X-ORIGINAL-URL:https://catholicconscience.org
X-WR-CALDESC:Events for Catholic Conscience †
REFRESH-INTERVAL;VALUE=DURATION:PT1H
X-Robots-Tag:noindex
X-PUBLISHED-TTL:PT1H
BEGIN:VTIMEZONE
TZID:America/Toronto
BEGIN:DAYLIGHT
TZOFFSETFROM:-0500
TZOFFSETTO:-0400
TZNAME:EDT
DTSTART:20170312T070000
END:DAYLIGHT
BEGIN:STANDARD
TZOFFSETFROM:-0400
TZOFFSETTO:-0500
TZNAME:EST
DTSTART:20171105T060000
END:STANDARD
BEGIN:DAYLIGHT
TZOFFSETFROM:-0500
TZOFFSETTO:-0400
TZNAME:EDT
DTSTART:20180311T070000
END:DAYLIGHT
BEGIN:STANDARD
TZOFFSETFROM:-0400
TZOFFSETTO:-0500
TZNAME:EST
DTSTART:20181104T060000
END:STANDARD
BEGIN:DAYLIGHT
TZOFFSETFROM:-0500
TZOFFSETTO:-0400
TZNAME:EDT
DTSTART:20190310T070000
END:DAYLIGHT
BEGIN:STANDARD
TZOFFSETFROM:-0400
TZOFFSETTO:-0500
TZNAME:EST
DTSTART:20191103T060000
END:STANDARD
END:VTIMEZONE
BEGIN:VEVENT
DTSTART;TZID=America/Toronto:20180531T190000
DTEND;TZID=America/Toronto:20180531T203000
DTSTAMP:20260425T200140
CREATED:20180429T173216Z
LAST-MODIFIED:20180429T173320Z
UID:10000006-1527793200-1527798600@catholicconscience.org
SUMMARY:Candidates' Q&A - Toronto University-Rosedale
DESCRIPTION:Our meeting for University-Rosedale during the 2015 federal elections\nCandidates from all parties running in Toronto’s University – Rosedale riding will join us in the parish hall at St Peter’s Church on Thursday\, May 31\, from 7-8:30 PM for an opportunity to share their views on a variety of topics of interest for Catholic voters\, and particularly topics concerning our parish.  Following a Q&A session in which all candidates will be given an equal opportunity to speak\, candidates and voters will be invited to mingle for individual interactions. \nCatholic Conscience\, is a non-profit\, non-partisan organization seeking to improve the quality of democratic politics in Canada. Those seeking to know more can check out our our website at www.CatholicConscience.org. \nFor those wanting to know more about the responsibilities of Catholics in elections\, an information session will be held on Tuesday\, May 22\, from 7-8:30pm in the parish hall at St Peter’s Church\, 130 Bathurst Street (across from the Bathurst TTC subway stop). \nSee you there! \n 
URL:https://catholicconscience.org/upcoming/candidates-qa-toronto-university-rosedale/
LOCATION:St Peter’s Church\, 830 Bathurst Street\, Toronto\, Ontario\, M5R 3G1\, Canada
ORGANIZER;CN="Catholic Conscience":MAILTO:Info@CatholicConscience.org
GEO:43.6658781;-79.4117066
X-APPLE-STRUCTURED-LOCATION;VALUE=URI;X-ADDRESS=St Peter’s Church 830 Bathurst Street Toronto Ontario M5R 3G1 Canada;X-APPLE-RADIUS=500;X-TITLE=830 Bathurst Street:geo:-79.4117066,43.6658781
END:VEVENT
END:VCALENDAR