BEGIN:VCALENDAR
VERSION:2.0
PRODID:-//Catholic Conscience † - ECPv6.15.16//NONSGML v1.0//EN
CALSCALE:GREGORIAN
METHOD:PUBLISH
X-WR-CALNAME:Catholic Conscience †
X-ORIGINAL-URL:https://catholicconscience.org
X-WR-CALDESC:Events for Catholic Conscience †
REFRESH-INTERVAL;VALUE=DURATION:PT1H
X-Robots-Tag:noindex
X-PUBLISHED-TTL:PT1H
BEGIN:VTIMEZONE
TZID:America/Toronto
BEGIN:DAYLIGHT
TZOFFSETFROM:-0500
TZOFFSETTO:-0400
TZNAME:EDT
DTSTART:20210314T070000
END:DAYLIGHT
BEGIN:STANDARD
TZOFFSETFROM:-0400
TZOFFSETTO:-0500
TZNAME:EST
DTSTART:20211107T060000
END:STANDARD
BEGIN:DAYLIGHT
TZOFFSETFROM:-0500
TZOFFSETTO:-0400
TZNAME:EDT
DTSTART:20220313T070000
END:DAYLIGHT
BEGIN:STANDARD
TZOFFSETFROM:-0400
TZOFFSETTO:-0500
TZNAME:EST
DTSTART:20221106T060000
END:STANDARD
BEGIN:DAYLIGHT
TZOFFSETFROM:-0500
TZOFFSETTO:-0400
TZNAME:EDT
DTSTART:20230312T070000
END:DAYLIGHT
BEGIN:STANDARD
TZOFFSETFROM:-0400
TZOFFSETTO:-0500
TZNAME:EST
DTSTART:20231105T060000
END:STANDARD
END:VTIMEZONE
BEGIN:VEVENT
DTSTART;VALUE=DATE:20221003
DTEND;VALUE=DATE:20221004
DTSTAMP:20260423T053511
CREATED:20210623T020355Z
LAST-MODIFIED:20220909T204203Z
UID:10000036-1664755200-1664841599@catholicconscience.org
SUMMARY:Quebec General Election
DESCRIPTION:L’élection générale du Québec de 2022 doit avoir lieu le 3 octobre 2022 pour élire les membres de l’Assemblée nationale du Québec. \nThe 2022 Quebec general election is scheduled to take place on October 3\, 2022\, to elect members of the National Assembly of Quebec.  \nNotre guide de l’électeur est ici. | Our voter’s guide is here.
URL:https://catholicconscience.org/upcoming/quebec-general-election/
LOCATION:Ontario
CATEGORIES:Provincial Elections
ATTACH;FMTTYPE=image/jpeg:https://catholicconscience.org/wp-content/uploads/flags/vote/Vote-Flag-Quebec.jpg
END:VEVENT
BEGIN:VEVENT
DTSTART;VALUE=DATE:20221024
DTEND;VALUE=DATE:20221025
DTSTAMP:20260423T053511
CREATED:20220217T035957Z
LAST-MODIFIED:20220918T232508Z
UID:10000031-1666569600-1666655999@catholicconscience.org
SUMMARY:2022 Ontario Municipal Elections
DESCRIPTION:Municipal council and school board elections will take place on Monday\, October 24\, 2022. \nInformation on Catholic School Trustee candidates can be found here.
URL:https://catholicconscience.org/upcoming/2022-ontario-municipal-elections/
LOCATION:Ontario
CATEGORIES:Elections,Municipality Elections
ATTACH;FMTTYPE=image/jpeg:https://catholicconscience.org/wp-content/uploads/flags/vote/Vote-Flag-Ontario.jpg
END:VEVENT
BEGIN:VEVENT
DTSTART;TZID=America/Toronto:20221027T190000
DTEND;TZID=America/Toronto:20221027T190000
DTSTAMP:20260423T053511
CREATED:20221012T151345Z
LAST-MODIFIED:20221013T031826Z
UID:10000027-1666897200-1666897200@catholicconscience.org
SUMMARY:Dr Natasha Duquette:  Contemplation in Community as a Reason for Hope
DESCRIPTION:Drawing from St Augustine\, Jane Austen\, and others\, Professor Natasha Duquette of Our Lady Seat of Wisdom College will explore the ability of human beings to edify themselves through ethical and theological contemplation of the beauty of Creation. We partner with the Newman Centre Catholic Mission of the University of Toronto and the Saint Monica Institute for Education and Evangelization.
URL:https://catholicconscience.org/upcoming/dr-natasha-duquette-contemplation-in-community-as-a-reason-for-hope/
LOCATION:Newman Centre Catholic Chaplaincy\, 89 George Street\, Toronto\, Ontario\, Canada
CATEGORIES:Faith & Reason Lecture Series
ATTACH;FMTTYPE=image/jpeg:https://catholicconscience.org/wp-content/uploads/2022/10/Contemplation-in-Community-Poster.jpg
GEO:43.6109479;-79.4947894
X-APPLE-STRUCTURED-LOCATION;VALUE=URI;X-ADDRESS=Newman Centre Catholic Chaplaincy 89 George Street Toronto Ontario Canada;X-APPLE-RADIUS=500;X-TITLE=89 George Street:geo:-79.4947894,43.6109479
END:VEVENT
BEGIN:VEVENT
DTSTART;VALUE=DATE:20221108
DTEND;VALUE=DATE:20221109
DTSTAMP:20260423T053511
CREATED:20220701T165848Z
LAST-MODIFIED:20220701T185024Z
UID:10000029-1667865600-1667951999@catholicconscience.org
SUMMARY:2022 US Midterm Election
DESCRIPTION:On Tuesday\, November 8\, Americans will go to the polls to elect a new House of Representatives and one third of the Senate. The election affords voters a chance to promote healing politics\, grounded in wisdom\, humility. personal responsibility\, and a sense of the common good.  Look here for election resources and a voter’s guide.
URL:https://catholicconscience.org/upcoming/2022-us-midterm-election/
LOCATION:Ontario
ATTACH;FMTTYPE=image/jpeg:https://catholicconscience.org/wp-content/uploads/flags/Election-Guides/Vote-USA.jpg
END:VEVENT
END:VCALENDAR