BEGIN:VCALENDAR
VERSION:2.0
PRODID:-//Catholic Conscience † - ECPv6.15.16//NONSGML v1.0//EN
CALSCALE:GREGORIAN
METHOD:PUBLISH
X-WR-CALNAME:Catholic Conscience †
X-ORIGINAL-URL:https://catholicconscience.org
X-WR-CALDESC:Events for Catholic Conscience †
REFRESH-INTERVAL;VALUE=DURATION:PT1H
X-Robots-Tag:noindex
X-PUBLISHED-TTL:PT1H
BEGIN:VTIMEZONE
TZID:America/Toronto
BEGIN:DAYLIGHT
TZOFFSETFROM:-0500
TZOFFSETTO:-0400
TZNAME:EDT
DTSTART:20200308T070000
END:DAYLIGHT
BEGIN:STANDARD
TZOFFSETFROM:-0400
TZOFFSETTO:-0500
TZNAME:EST
DTSTART:20201101T060000
END:STANDARD
BEGIN:DAYLIGHT
TZOFFSETFROM:-0500
TZOFFSETTO:-0400
TZNAME:EDT
DTSTART:20210314T070000
END:DAYLIGHT
BEGIN:STANDARD
TZOFFSETFROM:-0400
TZOFFSETTO:-0500
TZNAME:EST
DTSTART:20211107T060000
END:STANDARD
BEGIN:DAYLIGHT
TZOFFSETFROM:-0500
TZOFFSETTO:-0400
TZNAME:EDT
DTSTART:20220313T070000
END:DAYLIGHT
BEGIN:STANDARD
TZOFFSETFROM:-0400
TZOFFSETTO:-0500
TZNAME:EST
DTSTART:20221106T060000
END:STANDARD
BEGIN:DAYLIGHT
TZOFFSETFROM:-0500
TZOFFSETTO:-0400
TZNAME:EDT
DTSTART:20230312T070000
END:DAYLIGHT
BEGIN:STANDARD
TZOFFSETFROM:-0400
TZOFFSETTO:-0500
TZNAME:EST
DTSTART:20231105T060000
END:STANDARD
END:VTIMEZONE
BEGIN:VEVENT
DTSTART;VALUE=DATE:20210817
DTEND;VALUE=DATE:20210818
DTSTAMP:20260424T121324
CREATED:20210623T020202Z
LAST-MODIFIED:20210722T105257Z
UID:10000038-1629158400-1629244799@catholicconscience.org
SUMMARY:Nova Scotia General Election
DESCRIPTION:This year’s election offers voters an opportunity to ensure that Nova Scotia is guided by leaders who will provide practical and efficient leadership with the good of all in mind – including the unborn\, the elderly\, the young\, families\, and those who are too often forgotten by society – as well as workers\, farmers\, business owners\, and all future generations.  Catholics are called to full participation.
URL:https://catholicconscience.org/upcoming/nova-scotia-general-election/
CATEGORIES:Provincial Elections
ATTACH;FMTTYPE=image/jpeg:https://catholicconscience.org/wp-content/uploads/flags/vote/Vote-Flag-NovaScoita.jpg
END:VEVENT
BEGIN:VEVENT
DTSTART;TZID=America/Toronto:20210825T080000
DTEND;TZID=America/Toronto:20210920T100000
DTSTAMP:20260424T121324
CREATED:20210823T225449Z
LAST-MODIFIED:20210823T225727Z
UID:10000037-1629878400-1632132000@catholicconscience.org
SUMMARY:Rosary Novena for the People of Canada
DESCRIPTION:As Catholics\, we are called to “seek the welfare of the city\,” in the words of the Book of Jeremiah. We are\, after all\, citizens of two nations: this earthly country Canada\, this place and people we all love\, and the heavenly Kingdom of God. Let’s come together to praise the Lord of both these nations and to call on the intercession of the heavenly Kingdom for the needs of our earthly nation. \nJoin Canadians from coast to coast as we gather for a nine-day rosary novena to pray for the people of Canada\, each of us discerning our own consciences in preparation to vote for our next government during the 2021 federal election. We will pray for all Canadians\, and for guidance in choosing leaders who will provide practical and efficient leadership with the good of all in mind – including the unborn\, the elderly\, the young\, families\, and those who are too often forgotten by society – as well as workers\, farmers\, business owners\, and all future generations.
URL:https://catholicconscience.org/upcoming/rosary-novena-for-the-people-of-canada/
ATTACH;FMTTYPE=image/jpeg:https://catholicconscience.org/wp-content/uploads/2021/08/Rosary-Novena-header-4714541322_n.jpg
ORGANIZER;CN="Catholic Conscience":MAILTO:Info@CatholicConscience.org
END:VEVENT
BEGIN:VEVENT
DTSTART;VALUE=DATE:20210920
DTEND;VALUE=DATE:20210921
DTSTAMP:20260424T121324
CREATED:20210405T133845Z
LAST-MODIFIED:20210824T135908Z
UID:10000041-1632096000-1632182399@catholicconscience.org
SUMMARY:2021 Canada Federal Election
DESCRIPTION:Canada’s federal election will offer voters an opportunity to ensure that the nation is guided by leaders who will provide practical and efficient leadership with the good of all in mind – including the unborn\, the elderly\, the young\, families\, and those who are too often forgotten by society – as well as workers\, farmers\, business owners\, and all future generations.  Here are materials to help you prepare .
URL:https://catholicconscience.org/upcoming/2023-canada-federal-election/
CATEGORIES:Elections,Federal Elections
ATTACH;FMTTYPE=image/jpeg:https://catholicconscience.org/wp-content/uploads/flags/vote/Vote-Flag-Canada.jpg
END:VEVENT
BEGIN:VEVENT
DTSTART;TZID=America/Toronto:20211014T193000
DTEND;TZID=America/Toronto:20211014T203000
DTSTAMP:20260424T121324
CREATED:20210924T225614Z
LAST-MODIFIED:20210924T225614Z
UID:10000035-1634239800-1634243400@catholicconscience.org
SUMMARY:The Beauty of Creation:  Ecological Conversion with Sister Damien Marie Savino
DESCRIPTION:Pope Francis teaches that “living our vocation to be protectors of God’s handiwork is essential to a life of virtue.”  Sister Savino will lead us in consideration of the meaning of the call to creation\, Catholic doctrine concerning the integral human ecology\, and means for putting our doctrine into practice.
URL:https://catholicconscience.org/upcoming/the-beauty-of-creation-ecological-conversion-with-sister-damien-marie-savino/
CATEGORIES:Webinar
ATTACH;FMTTYPE=image/jpeg:https://catholicconscience.org/wp-content/uploads/2021/09/2021-10-14-Capture.jpg
ORGANIZER;CN="Catholic Conscience":MAILTO:Info@CatholicConscience.org
END:VEVENT
BEGIN:VEVENT
DTSTART;VALUE=DATE:20211025
DTEND;VALUE=DATE:20211026
DTSTAMP:20260424T121324
CREATED:20210623T015831Z
LAST-MODIFIED:20210623T015831Z
UID:10000039-1635120000-1635206399@catholicconscience.org
SUMMARY:Nunavut General Election
DESCRIPTION:
URL:https://catholicconscience.org/upcoming/nunavut-general-election-2/
CATEGORIES:Provincial Elections
ATTACH;FMTTYPE=image/jpeg:https://catholicconscience.org/wp-content/uploads/flags/vote/Vote-Flag-Nunavut.jpg
END:VEVENT
BEGIN:VEVENT
DTSTART;TZID=America/Toronto:20211118T190000
DTEND;TZID=America/Toronto:20211118T203000
DTSTAMP:20260424T121324
CREATED:20211101T203920Z
LAST-MODIFIED:20211101T204845Z
UID:10000033-1637262000-1637267400@catholicconscience.org
SUMMARY:The Beauty of Creation:  Green Thomism
DESCRIPTION:Professor Christopher Thompson of the Saint Paul Seminary School of Divinity explores his new idea of Green Thomism\, which “seeks to integrate the wisdom of St. Thomas Aquinas with the questions of environmental stewardship\, sustainability\, and awareness… [and] interprets the signs of the times to indicate the need for a renewal of some of the most basic principles of Thomistic thought: the goodness of created things\, the purposive structure of created being\, the inescapable embodied character of human existence\, the capacity of reason to discern an order of creation which is to be respected\, the contemplative nature of human happiness… All of these claims are rooted in St. Thomas’ vision of creation\, the human person\, and God; each of them has the capacity to enliven the best of what is happening in the ever-growing movement of environmental concern.”
URL:https://catholicconscience.org/upcoming/the-beauty-of-creation-green-thomism/
CATEGORIES:Canada,Catholic Conscience Events
ATTACH;FMTTYPE=image/jpeg:https://catholicconscience.org/wp-content/uploads/2021/11/2021-11-18-Capture-event-header.jpg
ORGANIZER;CN="Catholic Conscience":MAILTO:Info@CatholicConscience.org
END:VEVENT
BEGIN:VEVENT
DTSTART;TZID=America/Toronto:20211216T193000
DTEND;TZID=America/Toronto:20211216T203000
DTSTAMP:20260424T121324
CREATED:20211129T224757Z
LAST-MODIFIED:20211129T224951Z
UID:10000034-1639683000-1639686600@catholicconscience.org
SUMMARY:Bearing the Image of God - the Beauty of Creation
DESCRIPTION:Our Beauty of Creation series continues with Dr Sonsoles de Lacalle’s exploration of the wisdom of the Catholic Intellectual tradition in dialogue with science in revealing our fundamental nature of human beings.  Our conversation will cover a range of topics\, including gender\, sexuality\, and identity.
URL:https://catholicconscience.org/upcoming/bearing-the-image-of-god-the-beauty-of-creation/
ATTACH;FMTTYPE=image/png:https://catholicconscience.org/wp-content/uploads/2021/11/CC_BOC_Image-of-God_ePoster_v1-Nov7-2021-event-crop.png
ORGANIZER;CN="Catholic Conscience":MAILTO:Info@CatholicConscience.org
END:VEVENT
BEGIN:VEVENT
DTSTART;TZID=America/Toronto:20220112T190000
DTEND;TZID=America/Toronto:20220112T200000
DTSTAMP:20260424T121324
CREATED:20211129T233156Z
LAST-MODIFIED:20211129T233156Z
UID:10000032-1642014000-1642017600@catholicconscience.org
SUMMARY:Caring for the Whole Person - the Beauty of Creation
DESCRIPTION:Join us in conversation with two Catholics trained in neuroscience and psychiatry as we explore health\, the unity of body and soul\, and the nature of human well-being\, synthesizing science and Catholic wisdom about the human person. A webinar in our Beauty of Creation Series. RSVP for Zoom login details.
URL:https://catholicconscience.org/upcoming/caring-for-the-whole-person-the-beauty-of-creation/
ATTACH;FMTTYPE=image/png:https://catholicconscience.org/wp-content/uploads/2021/11/CC_BOC_Caring-for-the-whole-person_crop.png
ORGANIZER;CN="Catholic Conscience":MAILTO:Info@CatholicConscience.org
END:VEVENT
END:VCALENDAR