BEGIN:VCALENDAR
VERSION:2.0
PRODID:-//Catholic Conscience † - ECPv6.15.16//NONSGML v1.0//EN
CALSCALE:GREGORIAN
METHOD:PUBLISH
X-WR-CALNAME:Catholic Conscience †
X-ORIGINAL-URL:https://catholicconscience.org
X-WR-CALDESC:Events for Catholic Conscience †
REFRESH-INTERVAL;VALUE=DURATION:PT1H
X-Robots-Tag:noindex
X-PUBLISHED-TTL:PT1H
BEGIN:VTIMEZONE
TZID:America/Toronto
BEGIN:DAYLIGHT
TZOFFSETFROM:-0500
TZOFFSETTO:-0400
TZNAME:EDT
DTSTART:20170312T070000
END:DAYLIGHT
BEGIN:STANDARD
TZOFFSETFROM:-0400
TZOFFSETTO:-0500
TZNAME:EST
DTSTART:20171105T060000
END:STANDARD
BEGIN:DAYLIGHT
TZOFFSETFROM:-0500
TZOFFSETTO:-0400
TZNAME:EDT
DTSTART:20180311T070000
END:DAYLIGHT
BEGIN:STANDARD
TZOFFSETFROM:-0400
TZOFFSETTO:-0500
TZNAME:EST
DTSTART:20181104T060000
END:STANDARD
BEGIN:DAYLIGHT
TZOFFSETFROM:-0500
TZOFFSETTO:-0400
TZNAME:EDT
DTSTART:20190310T070000
END:DAYLIGHT
BEGIN:STANDARD
TZOFFSETFROM:-0400
TZOFFSETTO:-0500
TZNAME:EST
DTSTART:20191103T060000
END:STANDARD
BEGIN:DAYLIGHT
TZOFFSETFROM:-0500
TZOFFSETTO:-0400
TZNAME:EDT
DTSTART:20200308T070000
END:DAYLIGHT
BEGIN:STANDARD
TZOFFSETFROM:-0400
TZOFFSETTO:-0500
TZNAME:EST
DTSTART:20201101T060000
END:STANDARD
BEGIN:DAYLIGHT
TZOFFSETFROM:-0500
TZOFFSETTO:-0400
TZNAME:EDT
DTSTART:20210314T070000
END:DAYLIGHT
BEGIN:STANDARD
TZOFFSETFROM:-0400
TZOFFSETTO:-0500
TZNAME:EST
DTSTART:20211107T060000
END:STANDARD
END:VTIMEZONE
BEGIN:VEVENT
DTSTART;VALUE=DATE:20181022
DTEND;VALUE=DATE:20181023
DTSTAMP:20260425T105135
CREATED:20170805T021657Z
LAST-MODIFIED:20170805T024012Z
UID:10000015-1540166400-1540252799@catholicconscience.org
SUMMARY:City of Toronto Election 2018
DESCRIPTION:Election of the Mayor and 22 Ward seats.
URL:https://catholicconscience.org/upcoming/city-of-toronto-election-2018/
LOCATION:Ontario
CATEGORIES:Canada,Municipality Elections
END:VEVENT
BEGIN:VEVENT
DTSTART;VALUE=DATE:20181106
DTEND;VALUE=DATE:20181107
DTSTAMP:20260425T105135
CREATED:20170805T193710Z
LAST-MODIFIED:20170805T193819Z
UID:10000022-1541462400-1541462400@catholicconscience.org
SUMMARY:US Midterm Elections
DESCRIPTION:All 435 seats in the United States House of Representatives and 33 of the 100 seats in the United States Senate will be contested.  Thirty-nine (39) state and territorial governorships and numerous other state and local elections will also be contested.
URL:https://catholicconscience.org/upcoming/us-midterm-elections/
LOCATION:Ontario
END:VEVENT
BEGIN:VEVENT
DTSTART;VALUE=DATE:20190416
DTEND;VALUE=DATE:20190417
DTSTAMP:20260425T105135
CREATED:20170807T150520Z
LAST-MODIFIED:20190320T212421Z
UID:10000013-1555372800-1555459199@catholicconscience.org
SUMMARY:Alberta General Election
DESCRIPTION:The 2019 general election in Alberta\, Canada will elect members to the Legislative Assembly of Alberta. It will take place on Tuesday\, April 16\, 2019. \nThe Advance Poll Days are: \nTuesday\, April 9\nWednesday\, April 10\nThursday\, April 11\nFriday\, April 12\nSaturday\, April 13 \nFor more information\, visit Elections Alberta website: https://www.elections.ab.ca/current-election-information/
URL:https://catholicconscience.org/upcoming/alberta-general-election/
LOCATION:Ontario
CATEGORIES:Canada,Provincial Elections
ATTACH;FMTTYPE=image/jpeg:https://catholicconscience.org/wp-content/uploads/flags/vote/Vote-Flag-Alberta.jpg
END:VEVENT
BEGIN:VEVENT
DTSTART;TZID=America/Toronto:20190501T183000
DTEND;TZID=America/Toronto:20190501T200000
DTSTAMP:20260425T105135
CREATED:20190305T132535Z
LAST-MODIFIED:20190319T024951Z
UID:10000004-1556735400-1556740800@catholicconscience.org
SUMMARY:Responsible Approaches to the News
DESCRIPTION:Access to and understanding of the truth is critical for any just society.  Our panel\, including representatives of the Catholic and Secular press\, will examine the proper role of news in a democratic society\, and offer practical advice for proper approaches to and consumption of news. \n\nThis event is free and open to everyone. \nNo tickets are required. We do encourage everyone to show interest or select going on our Facebook event  (https://www.facebook.com/events/13301a20040471951/) page to assist us in seating arrangement planning.
URL:https://catholicconscience.org/upcoming/responsible-approaches-to-the-news/
LOCATION:Newman Centre Catholic Chaplaincy\, 89 George Street\, Toronto\, Ontario\, Canada
CATEGORIES:Catholic Conscience Events
ATTACH;FMTTYPE=image/jpeg:https://catholicconscience.org/wp-content/uploads/2019/03/20190501-Images.jpg
GEO:43.6109479;-79.4947894
X-APPLE-STRUCTURED-LOCATION;VALUE=URI;X-ADDRESS=Newman Centre Catholic Chaplaincy 89 George Street Toronto Ontario Canada;X-APPLE-RADIUS=500;X-TITLE=89 George Street:geo:-79.4947894,43.6109479
END:VEVENT
BEGIN:VEVENT
DTSTART;TZID=America/Toronto:20190530T183000
DTEND;TZID=America/Toronto:20190530T200000
DTSTAMP:20260425T105135
CREATED:20190305T132636Z
LAST-MODIFIED:20190516T044500Z
UID:10000003-1559241000-1559246400@catholicconscience.org
SUMMARY:Effective Participation in Political Parties
DESCRIPTION:Catholic Conscience and the Newman Centre at the University of Toronto are presenting a panel discussion on effective participation in politics and political parties. \nJoin us as members of each of the major political parties will help us understand the proper roles and purposes of political parties. \nPolitical parties and civic engagement matter. The visions for society that parties support have an enormous effect on nations\, particularly when they take up the reins of power. How do we\, as citizens\, engage with parties\, and help shape those visions? How can engaged citizens make a difference in the political process? \nOur panel will be discussing these issues and more on May 30th. Practical (and non-partisan) advice for effective membership will be discussed. \nPanelists include: \n\nJo-Ann Davis\, former TCDSB chair and 2018 Liberal MPP Candidate for University-Rosedale\nBrendan Steven\, former speechwriter for Conservative Finance Minister Joe Oliver\nDave Szollosy\, former president OECTA\, and 2018 NDP MPP candidate for York Simcoe\nNick Wright\, member of the Governing Board of the Law Society of Ontario and 2014\, 2015 Green Party candidate\n\nThis is one part of a multi-part series by Catholic Conscience and the Newman Centre on Catholic civic participation\, in the lead-up to this year’s federal election. \nThis event is free and open to everyone. No tickets are required. \nRSVP/Registration to our event via Eventbrite will help us in planning.
URL:https://catholicconscience.org/upcoming/effective-participation-in-political-parties/
LOCATION:Newman Centre Catholic Chaplaincy\, 89 George Street\, Toronto\, Ontario\, Canada
CATEGORIES:Catholic Conscience Events
ATTACH;FMTTYPE=image/jpeg:https://catholicconscience.org/wp-content/uploads/2019/03/20190530-Images-e1617653973438.jpg
GEO:43.6109479;-79.4947894
X-APPLE-STRUCTURED-LOCATION;VALUE=URI;X-ADDRESS=Newman Centre Catholic Chaplaincy 89 George Street Toronto Ontario Canada;X-APPLE-RADIUS=500;X-TITLE=89 George Street:geo:-79.4947894,43.6109479
END:VEVENT
BEGIN:VEVENT
DTSTART;TZID=America/Toronto:20191003T073000
DTEND;TZID=America/Toronto:20191003T210000
DTSTAMP:20260425T105135
CREATED:20190820T113259Z
LAST-MODIFIED:20190820T131307Z
UID:10000001-1570087800-1570136400@catholicconscience.org
SUMMARY:Debate:  Canada's Federal Election from a Catholic Perspective (Archdiocese of Toronto)
DESCRIPTION:We are excited to share that the Archdiocese of Toronto will be hosting a federal election debate on October 3rd\, so that Canada’s Catholic community can hear directly from the political parties about issues of deep concern to Catholics. \nThis is a great opportunity for the Catholic community to make our voices heard in politics. We are so excited to be there! We are proud to have played a small role in this idea and look forward to the world seeing how engaged and diverse our community is. \nWe hope to see you on October 3rd! Tickets (which are free) will be available starting September 3rd. And stay tuned for details about our Catholic Action election program\, which we will be running over the course of the federal election—supporting Catholics as they fulfill their duty to vote and engage in political action.
URL:https://catholicconscience.org/upcoming/canadas-federal-election-from-a-catholic-perspective/
LOCATION:Ontario
CATEGORIES:Canada,Candidates' Meeting,Federal Elections
ATTACH;FMTTYPE=image/jpeg:https://catholicconscience.org/wp-content/uploads/2019/08/Capture.jpg
END:VEVENT
BEGIN:VEVENT
DTSTART;TZID=America/Toronto:20191007T190000
DTEND;TZID=America/Toronto:20191007T203000
DTSTAMP:20260425T105135
CREATED:20191007T145443Z
LAST-MODIFIED:20191007T145838Z
UID:10000002-1570474800-1570480200@catholicconscience.org
SUMMARY:2019 FEDERAL ELECTION: Why Vote?
DESCRIPTION:2019 FEDERAL ELECTION: WHY VOTE? How to discern your vote thoughtfully \nPresented in partnership with St. Gregory’s Catholic Women’s League \nA panel discussion on good citizenship featuring: \n\nMatthew Marquardt\, President\, Catholic Conscience\nLuke Stocking\, Deputy Director for Public Engagement\, Development & Peace\nJo-Ann Davis\, former Chair of the Toronto Catholic District School Board\n\nRSVP today! Refreshments and snacks will be provided!
URL:https://catholicconscience.org/upcoming/2019-federal-election-why-vote/
LOCATION:St. Gregory’s Parish Hall\, 122 Rathburn Road\, Etobicoke\, ON\, M9B 2K6\, Canada
CATEGORIES:Catholic Conscience Events,Elections
ATTACH;FMTTYPE=image/jpeg:https://catholicconscience.org/wp-content/uploads/2019/10/WhyVote.jpg
END:VEVENT
BEGIN:VEVENT
DTSTART;TZID=America/Toronto:20191007T190000
DTEND;TZID=America/Toronto:20191007T210000
DTSTAMP:20260425T105135
CREATED:20191007T154854Z
LAST-MODIFIED:20191007T155905Z
UID:10000025-1570474800-1570482000@catholicconscience.org
SUMMARY:Federal Leaders' Debate (English)
DESCRIPTION:Watch the CBC’s livestream on Catholic Conscience at CatholicConscience.org/live
URL:https://catholicconscience.org/upcoming/federal-leaders-debate-english/
LOCATION:The Canadian Museum of History\, Gatineau\, QC\, Canada
CATEGORIES:Elections,Federal Elections
ATTACH;FMTTYPE=image/jpeg:https://catholicconscience.org/wp-content/uploads/2019/10/20191007-leadersdebate.jpg
END:VEVENT
BEGIN:VEVENT
DTSTART;TZID=America/Toronto:20191010T070000
DTEND;TZID=America/Toronto:20191010T203000
DTSTAMP:20260425T105135
CREATED:20191007T150346Z
LAST-MODIFIED:20191007T161650Z
UID:10000024-1570690800-1570739400@catholicconscience.org
SUMMARY:Downtown Candidates Meet & Greet
DESCRIPTION:Come meet the candidates for the upcoming 2019 Federal Election. \nAs a follow-up to the Archdiocesan all-parties’ debate on October 3\, candidates from the three major downtown ridings of Fort-York – Spadina\, University – Rosedale\, and Toronto Centre have been invited to meet and speak with voters from a number of parishes in each of their ridings. \nShort introductions will be followed by a Q&A mingle.
URL:https://catholicconscience.org/upcoming/downtown-candidates-meet-greet/
LOCATION:St Peter’s Church\, 830 Bathurst Street\, Toronto\, Ontario\, M5R 3G1\, Canada
CATEGORIES:Catholic Conscience Events,Elections,Federal Elections
ATTACH;FMTTYPE=image/png:https://catholicconscience.org/wp-content/uploads/2017/11/logo-2017-R3-FINAL.png
GEO:43.6658781;-79.4117066
X-APPLE-STRUCTURED-LOCATION;VALUE=URI;X-ADDRESS=St Peter’s Church 830 Bathurst Street Toronto Ontario M5R 3G1 Canada;X-APPLE-RADIUS=500;X-TITLE=830 Bathurst Street:geo:-79.4117066,43.6658781
END:VEVENT
BEGIN:VEVENT
DTSTART;TZID=America/Toronto:20191010T190000
DTEND;TZID=America/Toronto:20191010T210000
DTSTAMP:20260425T105135
CREATED:20191007T155308Z
LAST-MODIFIED:20191007T155340Z
UID:10000023-1570734000-1570741200@catholicconscience.org
SUMMARY:Federal Leaders' Debate 2019 (French)
DESCRIPTION:More information at https://www.debates-debats.ca/en/debates2019
URL:https://catholicconscience.org/upcoming/federal-leaders-debate-2019-french/
LOCATION:The Canadian Museum of History\, Gatineau\, QC\, Canada
CATEGORIES:Elections,Federal Elections
ATTACH;FMTTYPE=image/jpeg:https://catholicconscience.org/wp-content/uploads/2019/10/20191007-leadersdebate.jpg
END:VEVENT
BEGIN:VEVENT
DTSTART;VALUE=DATE:20191021
DTEND;VALUE=DATE:20191022
DTSTAMP:20260425T105135
CREATED:20170805T020423Z
LAST-MODIFIED:20190307T045422Z
UID:10000016-1571616000-1571702399@catholicconscience.org
SUMMARY:Canadian Federal Election 2019
DESCRIPTION:The 43rd Canadian federal election is scheduled to take place on or before October 21\, 2019. The October 21 date of the vote is determined by the fixed-date procedures in the Canada Elections Act[1] but the Act does not preclude the Governor General of Canada from issuing the writs of election at an earlier date.
URL:https://catholicconscience.org/upcoming/canadian-federal-election-2019/
LOCATION:Ontario
CATEGORIES:Canada,Federal Elections
ATTACH;FMTTYPE=image/jpeg:https://catholicconscience.org/wp-content/uploads/flags/vote/Vote-Flag-Canada.jpg
END:VEVENT
BEGIN:VEVENT
DTSTART;TZID=America/Toronto:20200212T190000
DTEND;TZID=America/Toronto:20200212T203000
DTSTAMP:20260425T105135
CREATED:20200207T150021Z
LAST-MODIFIED:20200207T150021Z
UID:10000048-1581534000-1581539400@catholicconscience.org
SUMMARY:FORMATION FOR CATHOLIC ACTION
DESCRIPTION:Join us on February 12 at St Peter’s Church in downtown Toronto for an introduction to the social justice teachings of the Church\, lead by Catholic Conscience’s Matt Marquardt. This event will be the lead-off in a four-part series hosted by St Peter’s\, leading to formation with an emphasis on care for the poor and lonely among us.
URL:https://catholicconscience.org/upcoming/formation-for-catholic-action/
LOCATION:St Peter’s Church\, 830 Bathurst Street\, Toronto\, Ontario\, M5R 3G1\, Canada
GEO:43.6658781;-79.4117066
X-APPLE-STRUCTURED-LOCATION;VALUE=URI;X-ADDRESS=St Peter’s Church 830 Bathurst Street Toronto Ontario M5R 3G1 Canada;X-APPLE-RADIUS=500;X-TITLE=830 Bathurst Street:geo:-79.4117066,43.6658781
END:VEVENT
END:VCALENDAR