BEGIN:VCALENDAR
VERSION:2.0
PRODID:-//Catholic Conscience † - ECPv6.15.16//NONSGML v1.0//EN
CALSCALE:GREGORIAN
METHOD:PUBLISH
X-ORIGINAL-URL:https://catholicconscience.org
X-WR-CALDESC:Events for Catholic Conscience †
REFRESH-INTERVAL;VALUE=DURATION:PT1H
X-Robots-Tag:noindex
X-PUBLISHED-TTL:PT1H
BEGIN:VTIMEZONE
TZID:America/Toronto
BEGIN:DAYLIGHT
TZOFFSETFROM:-0500
TZOFFSETTO:-0400
TZNAME:EDT
DTSTART:20200308T070000
END:DAYLIGHT
BEGIN:STANDARD
TZOFFSETFROM:-0400
TZOFFSETTO:-0500
TZNAME:EST
DTSTART:20201101T060000
END:STANDARD
BEGIN:DAYLIGHT
TZOFFSETFROM:-0500
TZOFFSETTO:-0400
TZNAME:EDT
DTSTART:20210314T070000
END:DAYLIGHT
BEGIN:STANDARD
TZOFFSETFROM:-0400
TZOFFSETTO:-0500
TZNAME:EST
DTSTART:20211107T060000
END:STANDARD
BEGIN:DAYLIGHT
TZOFFSETFROM:-0500
TZOFFSETTO:-0400
TZNAME:EDT
DTSTART:20220313T070000
END:DAYLIGHT
BEGIN:STANDARD
TZOFFSETFROM:-0400
TZOFFSETTO:-0500
TZNAME:EST
DTSTART:20221106T060000
END:STANDARD
END:VTIMEZONE
BEGIN:VEVENT
DTSTART;TZID=America/Toronto:20210113T190000
DTEND;TZID=America/Toronto:20210113T200000
DTSTAMP:20260425T075613
CREATED:20201224T194708Z
LAST-MODIFIED:20201224T203710Z
UID:10000045-1610564400-1610568000@catholicconscience.org
SUMMARY:Webinar: Pick Your Politican
DESCRIPTION:Learn about the enormous political impact you can have when you buy a party membership and vote in your local candidate nomination process. \nWHY CATHOLICS SHOULD VOTE IN PARTY NOMINATIONS \nOnly 4% of Canadians are members of political parties. That’s only four out of every 100 of us. That tiny number enjoy a special privilege: voting in political party nominations and selecting who will represent their party in each general election. Many of these nominated candidates eventually become our elected representatives. It matters who represents us. That’s why it’s so important Catholics purchase party memberships and vote in nominations. \nHear from former and current Catholic candidates from different parties about why nominations matter\, and how you can get involved and pick your politicians. \nFeaturing a special introduction from Neil MacCarthy\, Director of Public Relations & Communications at the Archdiocese of Toronto. \nRSVP AT: \nhttps://nominationsmatter.eventbrite.ca \nFree tickets are limited. RSVP for the link and login details.
URL:https://catholicconscience.org/upcoming/webinar-pick-your-politican/
LOCATION:Online
CATEGORIES:Catholic Conscience Events,Webinar
ATTACH;FMTTYPE=image/jpeg:https://catholicconscience.org/wp-content/uploads/2020/12/image006.jpg
ORGANIZER;CN="Catholic Conscience":MAILTO:Info@CatholicConscience.org
END:VEVENT
END:VCALENDAR