BEGIN:VCALENDAR
VERSION:2.0
PRODID:-//Catholic Conscience † - ECPv6.15.16//NONSGML v1.0//EN
CALSCALE:GREGORIAN
METHOD:PUBLISH
X-ORIGINAL-URL:https://catholicconscience.org
X-WR-CALDESC:Events for Catholic Conscience †
REFRESH-INTERVAL;VALUE=DURATION:PT1H
X-Robots-Tag:noindex
X-PUBLISHED-TTL:PT1H
BEGIN:VTIMEZONE
TZID:America/Toronto
BEGIN:DAYLIGHT
TZOFFSETFROM:-0500
TZOFFSETTO:-0400
TZNAME:EDT
DTSTART:20160313T070000
END:DAYLIGHT
BEGIN:STANDARD
TZOFFSETFROM:-0400
TZOFFSETTO:-0500
TZNAME:EST
DTSTART:20161106T060000
END:STANDARD
BEGIN:DAYLIGHT
TZOFFSETFROM:-0500
TZOFFSETTO:-0400
TZNAME:EDT
DTSTART:20170312T070000
END:DAYLIGHT
BEGIN:STANDARD
TZOFFSETFROM:-0400
TZOFFSETTO:-0500
TZNAME:EST
DTSTART:20171105T060000
END:STANDARD
BEGIN:DAYLIGHT
TZOFFSETFROM:-0500
TZOFFSETTO:-0400
TZNAME:EDT
DTSTART:20180311T070000
END:DAYLIGHT
BEGIN:STANDARD
TZOFFSETFROM:-0400
TZOFFSETTO:-0500
TZNAME:EST
DTSTART:20181104T060000
END:STANDARD
BEGIN:DAYLIGHT
TZOFFSETFROM:-0500
TZOFFSETTO:-0400
TZNAME:EDT
DTSTART:20190310T070000
END:DAYLIGHT
BEGIN:STANDARD
TZOFFSETFROM:-0400
TZOFFSETTO:-0500
TZNAME:EST
DTSTART:20191103T060000
END:STANDARD
BEGIN:DAYLIGHT
TZOFFSETFROM:-0500
TZOFFSETTO:-0400
TZNAME:EDT
DTSTART:20200308T070000
END:DAYLIGHT
BEGIN:STANDARD
TZOFFSETFROM:-0400
TZOFFSETTO:-0500
TZNAME:EST
DTSTART:20201101T060000
END:STANDARD
BEGIN:DAYLIGHT
TZOFFSETFROM:-0500
TZOFFSETTO:-0400
TZNAME:EDT
DTSTART:20210314T070000
END:DAYLIGHT
BEGIN:STANDARD
TZOFFSETFROM:-0400
TZOFFSETTO:-0500
TZNAME:EST
DTSTART:20211107T060000
END:STANDARD
BEGIN:DAYLIGHT
TZOFFSETFROM:-0500
TZOFFSETTO:-0400
TZNAME:EDT
DTSTART:20220313T070000
END:DAYLIGHT
BEGIN:STANDARD
TZOFFSETFROM:-0400
TZOFFSETTO:-0500
TZNAME:EST
DTSTART:20221106T060000
END:STANDARD
BEGIN:DAYLIGHT
TZOFFSETFROM:-0500
TZOFFSETTO:-0400
TZNAME:EDT
DTSTART:20230312T070000
END:DAYLIGHT
BEGIN:STANDARD
TZOFFSETFROM:-0400
TZOFFSETTO:-0500
TZNAME:EST
DTSTART:20231105T060000
END:STANDARD
BEGIN:DAYLIGHT
TZOFFSETFROM:-0500
TZOFFSETTO:-0400
TZNAME:EDT
DTSTART:20240310T070000
END:DAYLIGHT
BEGIN:STANDARD
TZOFFSETFROM:-0400
TZOFFSETTO:-0500
TZNAME:EST
DTSTART:20241103T060000
END:STANDARD
BEGIN:DAYLIGHT
TZOFFSETFROM:-0500
TZOFFSETTO:-0400
TZNAME:EDT
DTSTART:20250309T070000
END:DAYLIGHT
BEGIN:STANDARD
TZOFFSETFROM:-0400
TZOFFSETTO:-0500
TZNAME:EST
DTSTART:20251102T060000
END:STANDARD
BEGIN:DAYLIGHT
TZOFFSETFROM:-0500
TZOFFSETTO:-0400
TZNAME:EDT
DTSTART:20260308T070000
END:DAYLIGHT
BEGIN:STANDARD
TZOFFSETFROM:-0400
TZOFFSETTO:-0500
TZNAME:EST
DTSTART:20261101T060000
END:STANDARD
END:VTIMEZONE
BEGIN:VEVENT
DTSTART;VALUE=DATE:20171030
DTEND;VALUE=DATE:20171031
DTSTAMP:20260420T055844
CREATED:20170813T144207Z
LAST-MODIFIED:20170813T144248Z
UID:10000011-1509321600-1509407999@catholicconscience.org
SUMMARY:Nunavut General Election
DESCRIPTION:The Nunavut general election\, 2017 is scheduled to be held in the Canadian territory of Nunavut on October 30\, 2017. The fifth general election held since the creation of the territory in 1999\, it will be the first election held under Nunavut’s new fixed election dates law\, which requires elections to be held no more than four years after the prior election.
URL:https://catholicconscience.org/upcoming/nunavut-general-election/
LOCATION:Ontario
CATEGORIES:Canada,Provincial Elections
END:VEVENT
BEGIN:VEVENT
DTSTART;TZID=America/Toronto:20180517T190000
DTEND;TZID=America/Toronto:20180517T203000
DTSTAMP:20260420T055844
CREATED:20180429T164013Z
LAST-MODIFIED:20180519T215550Z
UID:10000009-1526583600-1526589000@catholicconscience.org
SUMMARY:Candidates' Q&A - Toronto Don Valley Ridings
DESCRIPTION:Our May 15 meeting for the Don Valley\nOur 2018 Don Valley Provincial Candidates’ Forum took place from 7-9PM on May 17\, 2018\, at St Bonaventure’s Church\, 1300 Leslie Street\, Toronto.  Participating candidates were invited to respond\, in turns\, to a number of questions asked by our moderator Carolyn Sue Kralik.  The questions were drawn from the questions provided below.  Answers of participating candidates are summarized below. \nA video of the complete question and answer session is available at\nhttps://www.youtube.com/watch?v=fShOsvIRTTw&feature=youtu.be. \nParticipating candidates included: \n\nMr Morgan Bailey\, Green Party candidate for Don Valley West\nMr Michael Coteau\, Liberal candidate and incumbent for Don Valley East\nMr Jon Kieran\, Progressive-Conservative candidate for Don Valley West\nMr Mark Wong\, Green Party Candidate for Don Valley East\n\nThe following candidates were invited\, but declined to attend. \n\nMs Kathleen Wynne\, Liberal candidate\, incumbent and Premier for Don Valley West\nMr Khalid Ahmed\, New Democratic candidate for Don Valley East\nMs Shelley Carroll\, Liberal candidate for Don Valley North\nMr Vincent Ke\, Progressive Conservative candidate for Don Valley North\nMr Denzil Minnan-Wong\, Progressive Conservative candidate for Don Valley East\n\nTo date\, the following candidates from this meeting have returned completed questionnaires: \n\nNone\n\nWe are deeply grateful to all those who participated: the candidates\, the voters\, and the pastor and staff of St. Bonaventure’s Catholic Church. \nCatholic Conscience\, is a non-profit\, non-partisan organization seeking to improve the quality of democratic politics in Canada. Those seeking to know more can check out our our website at www.CatholicConscience.org. \n 
URL:https://catholicconscience.org/upcoming/candidates-qa-toronto-don-valley-ridings/
LOCATION:St Bonaventure’s Catholic Church\, 1300 Leslie Street\, North York\, Ontario\, M3C 2K9\, Canada
CATEGORIES:Canada,Candidates' Meeting,Provincial Elections
ORGANIZER;CN="Catholic Conscience":MAILTO:Info@CatholicConscience.org
GEO:43.7313228;-79.3551454
X-APPLE-STRUCTURED-LOCATION;VALUE=URI;X-ADDRESS=St Bonaventure’s Catholic Church 1300 Leslie Street North York Ontario M3C 2K9 Canada;X-APPLE-RADIUS=500;X-TITLE=1300 Leslie Street:geo:-79.3551454,43.7313228
END:VEVENT
BEGIN:VEVENT
DTSTART;VALUE=DATE:20180607
DTEND;VALUE=DATE:20180608
DTSTAMP:20260420T055844
CREATED:20170805T020322Z
LAST-MODIFIED:20170805T024331Z
UID:10000017-1528329600-1528415999@catholicconscience.org
SUMMARY:Ontario General Election 2018
DESCRIPTION:The 42nd Ontario general election is scheduled to be held on or before June 7\, 2018.Under amendments passed by the Legislative Assembly of Ontario in 2004\, Ontario elections had previously been held on the first Thursday of October in the fourth calendar year unless the Assembly is dissolved earlier by the Lieutenant Governor of Ontario due to a motion of no confidence or on the advice of the Premier of Ontario.
URL:https://catholicconscience.org/upcoming/ontario-general-election-2018/
LOCATION:Ontario
CATEGORIES:Canada,Provincial Elections
END:VEVENT
BEGIN:VEVENT
DTSTART;VALUE=DATE:20180924
DTEND;VALUE=DATE:20180925
DTSTAMP:20260420T055844
CREATED:20170813T144037Z
LAST-MODIFIED:20170813T144037Z
UID:10000012-1537747200-1537833599@catholicconscience.org
SUMMARY:New Brunswick General Election
DESCRIPTION:
URL:https://catholicconscience.org/upcoming/new-brunswick-general-election/
LOCATION:Ontario
CATEGORIES:Canada,Provincial Elections
END:VEVENT
BEGIN:VEVENT
DTSTART;VALUE=DATE:20181001
DTEND;VALUE=DATE:20181002
DTSTAMP:20260420T055844
CREATED:20170805T194449Z
LAST-MODIFIED:20170807T150554Z
UID:10000014-1538352000-1538438399@catholicconscience.org
SUMMARY:Quebec general elections
DESCRIPTION:The 42nd Quebec general election is tentatively scheduled for October 1\, 2018 to elect members to the National Assembly of Quebec. \nUnder the province’s fixed election date law\, passed in 2013\, “the general election following the end of a Legislature shall be held on the first Monday of October of the fourth calendar year following the year that includes the last day of the previous Legislature”\, setting the date for October 1\, 2018. However\, the chief electoral officer can change the election date in the event of a natural disaster. Furthermore\, the Lieutenant Governor can call an election sooner should the premier request one\, or in the event the government is dissolved by a motion of no confidence. Such a dissolution is unlikely as the current government has a majority.
URL:https://catholicconscience.org/upcoming/quebec-general-elections/
LOCATION:Ontario
CATEGORIES:Canada,Provincial Elections
END:VEVENT
BEGIN:VEVENT
DTSTART;VALUE=DATE:20181022
DTEND;VALUE=DATE:20181023
DTSTAMP:20260420T055844
CREATED:20170805T021657Z
LAST-MODIFIED:20170805T024012Z
UID:10000015-1540166400-1540252799@catholicconscience.org
SUMMARY:City of Toronto Election 2018
DESCRIPTION:Election of the Mayor and 22 Ward seats.
URL:https://catholicconscience.org/upcoming/city-of-toronto-election-2018/
LOCATION:Ontario
CATEGORIES:Canada,Municipality Elections
END:VEVENT
BEGIN:VEVENT
DTSTART;VALUE=DATE:20190416
DTEND;VALUE=DATE:20190417
DTSTAMP:20260420T055844
CREATED:20170807T150520Z
LAST-MODIFIED:20190320T212421Z
UID:10000013-1555372800-1555459199@catholicconscience.org
SUMMARY:Alberta General Election
DESCRIPTION:The 2019 general election in Alberta\, Canada will elect members to the Legislative Assembly of Alberta. It will take place on Tuesday\, April 16\, 2019. \nThe Advance Poll Days are: \nTuesday\, April 9\nWednesday\, April 10\nThursday\, April 11\nFriday\, April 12\nSaturday\, April 13 \nFor more information\, visit Elections Alberta website: https://www.elections.ab.ca/current-election-information/
URL:https://catholicconscience.org/upcoming/alberta-general-election/
LOCATION:Ontario
CATEGORIES:Canada,Provincial Elections
ATTACH;FMTTYPE=image/jpeg:https://catholicconscience.org/wp-content/uploads/flags/vote/Vote-Flag-Alberta.jpg
END:VEVENT
BEGIN:VEVENT
DTSTART;TZID=America/Toronto:20191003T073000
DTEND;TZID=America/Toronto:20191003T210000
DTSTAMP:20260420T055844
CREATED:20190820T113259Z
LAST-MODIFIED:20190820T131307Z
UID:10000001-1570087800-1570136400@catholicconscience.org
SUMMARY:Debate:  Canada's Federal Election from a Catholic Perspective (Archdiocese of Toronto)
DESCRIPTION:We are excited to share that the Archdiocese of Toronto will be hosting a federal election debate on October 3rd\, so that Canada’s Catholic community can hear directly from the political parties about issues of deep concern to Catholics. \nThis is a great opportunity for the Catholic community to make our voices heard in politics. We are so excited to be there! We are proud to have played a small role in this idea and look forward to the world seeing how engaged and diverse our community is. \nWe hope to see you on October 3rd! Tickets (which are free) will be available starting September 3rd. And stay tuned for details about our Catholic Action election program\, which we will be running over the course of the federal election—supporting Catholics as they fulfill their duty to vote and engage in political action.
URL:https://catholicconscience.org/upcoming/canadas-federal-election-from-a-catholic-perspective/
LOCATION:Ontario
CATEGORIES:Canada,Candidates' Meeting,Federal Elections
ATTACH;FMTTYPE=image/jpeg:https://catholicconscience.org/wp-content/uploads/2019/08/Capture.jpg
END:VEVENT
BEGIN:VEVENT
DTSTART;VALUE=DATE:20191021
DTEND;VALUE=DATE:20191022
DTSTAMP:20260420T055844
CREATED:20170805T020423Z
LAST-MODIFIED:20190307T045422Z
UID:10000016-1571616000-1571702399@catholicconscience.org
SUMMARY:Canadian Federal Election 2019
DESCRIPTION:The 43rd Canadian federal election is scheduled to take place on or before October 21\, 2019. The October 21 date of the vote is determined by the fixed-date procedures in the Canada Elections Act[1] but the Act does not preclude the Governor General of Canada from issuing the writs of election at an earlier date.
URL:https://catholicconscience.org/upcoming/canadian-federal-election-2019/
LOCATION:Ontario
CATEGORIES:Canada,Federal Elections
ATTACH;FMTTYPE=image/jpeg:https://catholicconscience.org/wp-content/uploads/flags/vote/Vote-Flag-Canada.jpg
END:VEVENT
BEGIN:VEVENT
DTSTART;VALUE=DATE:20201026
DTEND;VALUE=DATE:20201027
DTSTAMP:20260420T055844
CREATED:20200929T175124Z
LAST-MODIFIED:20200929T175124Z
UID:10000047-1603670400-1603756799@catholicconscience.org
SUMMARY:Federal By-elections 2020
DESCRIPTION:Federal by-elections for: \n\nToronto Centre (Ontario)\nYork Centre (Ontario)\n\n 
URL:https://catholicconscience.org/upcoming/federal-by-elections-2020/
LOCATION:Ontario
CATEGORIES:By-Election,Canada
ATTACH;FMTTYPE=image/jpeg:https://catholicconscience.org/wp-content/uploads/flags/vote/Vote-Flag-Canada.jpg
END:VEVENT
BEGIN:VEVENT
DTSTART;VALUE=DATE:20201026
DTEND;VALUE=DATE:20201027
DTSTAMP:20260420T055844
CREATED:20190305T132303Z
LAST-MODIFIED:20200924T215856Z
UID:10000005-1603670400-1603756799@catholicconscience.org
SUMMARY:Saskatchewan Provincial Election
DESCRIPTION:Saskatchewan goes to the polls on October 26.    Here’s what Catholics ought to know.
URL:https://catholicconscience.org/upcoming/https-catholicconscience-org-saskatchewan/
LOCATION:Ontario
CATEGORIES:Canada,Provincial Elections
ATTACH;FMTTYPE=image/jpeg:https://catholicconscience.org/wp-content/uploads/flags/vote/Vote-Flag-Saskatchewan.jpg
END:VEVENT
BEGIN:VEVENT
DTSTART;TZID=America/Toronto:20211118T190000
DTEND;TZID=America/Toronto:20211118T203000
DTSTAMP:20260420T055844
CREATED:20211101T203920Z
LAST-MODIFIED:20211101T204845Z
UID:10000033-1637262000-1637267400@catholicconscience.org
SUMMARY:The Beauty of Creation:  Green Thomism
DESCRIPTION:Professor Christopher Thompson of the Saint Paul Seminary School of Divinity explores his new idea of Green Thomism\, which “seeks to integrate the wisdom of St. Thomas Aquinas with the questions of environmental stewardship\, sustainability\, and awareness… [and] interprets the signs of the times to indicate the need for a renewal of some of the most basic principles of Thomistic thought: the goodness of created things\, the purposive structure of created being\, the inescapable embodied character of human existence\, the capacity of reason to discern an order of creation which is to be respected\, the contemplative nature of human happiness… All of these claims are rooted in St. Thomas’ vision of creation\, the human person\, and God; each of them has the capacity to enliven the best of what is happening in the ever-growing movement of environmental concern.”
URL:https://catholicconscience.org/upcoming/the-beauty-of-creation-green-thomism/
LOCATION:Ontario
CATEGORIES:Canada,Catholic Conscience Events
ATTACH;FMTTYPE=image/jpeg:https://catholicconscience.org/wp-content/uploads/2021/11/2021-11-18-Capture-event-header.jpg
ORGANIZER;CN="Catholic Conscience":MAILTO:Info@CatholicConscience.org
END:VEVENT
BEGIN:VEVENT
DTSTART;VALUE=DATE:20230529
DTEND;VALUE=DATE:20230531
DTSTAMP:20260420T055844
CREATED:20230223T231904Z
LAST-MODIFIED:20230305T194347Z
UID:10000053-1685325600-1685411999@catholicconscience.org
SUMMARY:Alberta Election
DESCRIPTION:Alberta’s 31st general election will take place May 29\, 2023.  The election will offer voters an opportunity to ensure that the province is governed by practical and efficient leaders who bear the good of all in mind – including the unborn\, the elderly\, the young\, families\, and those who are too often forgotten by society – as well as workers\, farmers\, business owners\, and all future generations.  This is an important opportunity for Catholics.  We are called to participate\, in accordance with the full measure of talents entrusted to us by God.  \nAn explanation of our duty\, and the ways in which we can exercise it\, is provided in our election resource page.  This page will guide you toward resources and starting points to assist you in these efforts\, whether you are Catholic or simply a good person interested in a better world.
URL:https://catholicconscience.org/upcoming/alberta-election/
LOCATION:Ontario
CATEGORIES:Canada,Provincial Elections
ATTACH;FMTTYPE=image/jpeg:https://catholicconscience.org/wp-content/uploads/flags/vote/Vote-Flag-Alberta.jpg
END:VEVENT
BEGIN:VEVENT
DTSTART;VALUE=DATE:20231003
DTEND;VALUE=DATE:20231004
DTSTAMP:20260420T055844
CREATED:20230823T212726Z
LAST-MODIFIED:20230823T212726Z
UID:10000057-1696291200-1696377599@catholicconscience.org
SUMMARY:Northwest Territorial General Election 2023
DESCRIPTION:
URL:https://catholicconscience.org/upcoming/northwest-territorial-general-election-2023/
LOCATION:Ontario
CATEGORIES:Canada,Provincial Elections
ATTACH;FMTTYPE=image/jpeg:https://catholicconscience.org/wp-content/uploads/flags/vote/Vote-Flag-NorthwestTerritories.jpg
END:VEVENT
BEGIN:VEVENT
DTSTART;VALUE=DATE:20231003
DTEND;VALUE=DATE:20231004
DTSTAMP:20260420T055844
CREATED:20230725T162306Z
LAST-MODIFIED:20230725T162306Z
UID:10000056-1696291200-1696377599@catholicconscience.org
SUMMARY:2023 Manitoba general election
DESCRIPTION:
URL:https://catholicconscience.org/upcoming/2023-manitoba-general-election/
LOCATION:Ontario
CATEGORIES:Canada,Provincial Elections
ATTACH;FMTTYPE=image/jpeg:https://catholicconscience.org/wp-content/uploads/flags/vote/Vote-Flag-Manitoba.jpg
END:VEVENT
BEGIN:VEVENT
DTSTART;VALUE=DATE:20241019
DTEND;VALUE=DATE:20241020
DTSTAMP:20260420T055844
CREATED:20230223T231751Z
LAST-MODIFIED:20241003T191147Z
UID:10000052-1729296000-1729382399@catholicconscience.org
SUMMARY:British Columbia Election 2024
DESCRIPTION:British Columbia’s provincial election is set to take place Saturday\, October 19\, 2024.  We have updated our voter resources to include materials published since the last election\, and will work to include new platforms as they are released.  As always\, elections are a work in progress. We will update as best we can as the date approaches.
URL:https://catholicconscience.org/upcoming/british-columbia-election/
LOCATION:Ontario
CATEGORIES:Canada,Provincial Elections
ATTACH;FMTTYPE=image/jpeg:https://catholicconscience.org/wp-content/uploads/flags/vote/Vote-Flag-BritishColmubia.jpg
END:VEVENT
BEGIN:VEVENT
DTSTART;VALUE=DATE:20241126
DTEND;VALUE=DATE:20241127
DTSTAMP:20260420T055844
CREATED:20241106T195131Z
LAST-MODIFIED:20241106T195131Z
UID:10000084-1732579200-1732665599@catholicconscience.org
SUMMARY:Nova Scotia Provincial Election 2024
DESCRIPTION:An election has been called seven months early\, being pulled ahead to November 26\, 2024 from July 2025.  We have posted our initial guide using available materials\, and will attempt to update it as the election approaches.  Read\, pray\, and vote confidently!
URL:https://catholicconscience.org/upcoming/nova-scotia-provincial-election-2024/
LOCATION:Ontario
CATEGORIES:Canada,Provincial Elections
ATTACH;FMTTYPE=image/jpeg:https://catholicconscience.org/wp-content/uploads/flags/vote/Vote-Flag-NovaScoita.jpg
ORGANIZER;CN="Catholic Conscience":MAILTO:Info@CatholicConscience.org
END:VEVENT
BEGIN:VEVENT
DTSTART;VALUE=DATE:20250428
DTEND;VALUE=DATE:20250429
DTSTAMP:20260420T055844
CREATED:20230223T231527Z
LAST-MODIFIED:20250326T182304Z
UID:10000051-1745798400-1745884799@catholicconscience.org
SUMMARY:Canada Federal Election 2025
DESCRIPTION:Canada’s next federal election is set to take place on April 28\, 2025.  Our guide to the election is posted at and is being updated as parties release confirmed policy statements.
URL:https://catholicconscience.org/upcoming/canada-federal-election/
LOCATION:Ontario
CATEGORIES:Canada,Federal Elections
ATTACH;FMTTYPE=image/jpeg:https://catholicconscience.org/wp-content/uploads/flags/vote/Vote-Flag-Canada.jpg
END:VEVENT
BEGIN:VEVENT
DTSTART;TZID=America/Toronto:20251013T130000
DTEND;TZID=America/Toronto:20251013T143000
DTSTAMP:20260420T055844
CREATED:20251006T195323Z
LAST-MODIFIED:20251006T200929Z
UID:10000095-1760360400-1760365800@catholicconscience.org
SUMMARY:Thanksgiving Rosary in the Park
DESCRIPTION:Bring your Rosary for a quiet\, informal\, and devout praying of the Joyful Mysteries on Thanksgiving Day at Toronto’s Love Park\, 1pm Eastern\, Monday 13 October 2025. The park is located on York Street between Queens Quay and Harbour\, two blocks from Union Station. On the 108th Anniversary of the Miracle of the Sun\, we will pray for peace\, justice\, and good government. We will also make an act of Consecration of this park to the Immaculate Heart of Mary.
URL:https://catholicconscience.org/upcoming/thanksgiving-rosary-in-the-park/
LOCATION:Love Park\, Toronto\, 96 Queens Queen West\, Toronto\, ON\, M5J 2Y2\, Canada
CATEGORIES:Canada,Catholic Conscience Events,Community Events,Prayer
ATTACH;FMTTYPE=image/png:https://catholicconscience.org/wp-content/uploads/2025/10/Immaculate-Heart-Park-2025-06-26.png
END:VEVENT
BEGIN:VEVENT
DTSTART;VALUE=DATE:20251014
DTEND;VALUE=DATE:20251015
DTSTAMP:20260420T055844
CREATED:20250629T204743Z
LAST-MODIFIED:20250711T212729Z
UID:10000088-1760400000-1760486399@catholicconscience.org
SUMMARY:Newfoundland and Labrador Provincial Election
DESCRIPTION:
URL:https://catholicconscience.org/upcoming/newfoundland-and-labrador-provincial-election/
LOCATION:Ontario
CATEGORIES:Canada,Elections,Provincial Elections
ATTACH;FMTTYPE=image/jpeg:https://catholicconscience.org/wp-content/uploads/flags/vote/Vote-Flag-NewfoundlandLabrador.jpg
END:VEVENT
BEGIN:VEVENT
DTSTART;VALUE=DATE:20251027
DTEND;VALUE=DATE:20251028
DTSTAMP:20260420T055844
CREATED:20250629T204920Z
LAST-MODIFIED:20250629T210334Z
UID:10000089-1761523200-1761609599@catholicconscience.org
SUMMARY:Nunavut General Election 2025
DESCRIPTION:
URL:https://catholicconscience.org/upcoming/nunavut-general-election-3/
LOCATION:Ontario
CATEGORIES:Canada,Provincial Elections,Territorial
ATTACH;FMTTYPE=image/jpeg:https://catholicconscience.org/wp-content/uploads/flags/vote/Vote-Flag-Nunavut.jpg
END:VEVENT
BEGIN:VEVENT
DTSTART;VALUE=DATE:20251103
DTEND;VALUE=DATE:20251104
DTSTAMP:20260420T055844
CREATED:20250629T205022Z
LAST-MODIFIED:20250629T210334Z
UID:10000090-1762128000-1762214399@catholicconscience.org
SUMMARY:Yukon General Election 2025
DESCRIPTION:
URL:https://catholicconscience.org/upcoming/yukon-general-election/
LOCATION:Ontario
CATEGORIES:Canada,Provincial Elections,Territorial
ATTACH;FMTTYPE=image/jpeg:https://catholicconscience.org/wp-content/uploads/flags/vote/Vote-Flag-Yukon.jpg
END:VEVENT
BEGIN:VEVENT
DTSTART;TZID=America/Toronto:20251118T190000
DTEND;TZID=America/Toronto:20251118T213000
DTSTAMP:20260420T055844
CREATED:20251105T164618Z
LAST-MODIFIED:20251105T164922Z
UID:10000096-1763492400-1763501400@catholicconscience.org
SUMMARY:Gold Mass 2025
DESCRIPTION:2025 Gold Mass\, Toronto. This year the Society of Catholic Scientists invites you to celebrate the memorial of Saint Albert the Great\, patron of Scientists. November 18\, 7PM\, at the Newman Centre at the University of Toronto. Reception to follow. RSVP is encouraged but not required at https://shorturl.at/5JyYW
URL:https://catholicconscience.org/upcoming/gold-mass-2025/
LOCATION:Newman Centre Catholic Chaplaincy\, 89 George Street\, Toronto\, Ontario\, Canada
CATEGORIES:Canada,Catholic Conscience Events,Community Events,Prayer
ATTACH;FMTTYPE=image/png:https://catholicconscience.org/wp-content/uploads/2025/11/2025-Gold-Mass.png
GEO:43.6109479;-79.4947894
X-APPLE-STRUCTURED-LOCATION;VALUE=URI;X-ADDRESS=Newman Centre Catholic Chaplaincy 89 George Street Toronto Ontario Canada;X-APPLE-RADIUS=500;X-TITLE=89 George Street:geo:-79.4947894,43.6109479
END:VEVENT
END:VCALENDAR